BEGIN:VCALENDAR
VERSION:2.0
PRODID:-//Tukios.com/
BEGIN:VEVENT
UID:afc467cd-2a47-4bb1-9ba7-f92c83482d8e@www.eneafuneralhomes.com
DTSTAMP:20260422T043205Z
DTSTART:20260501T210000Z
DTEND:20260501T230000Z
SUMMARY:Visitation
DESCRIPTION:This will be a very special time for family and friends to 
	share memories and spend time reflecting on Bill's beautiful life lived.
URL:https://www.eneafuneralhomes.com/obituaries/william-d-loomis
LOCATION:The Enea & Ciaccia Family Funeral Home 4309 Acme Road  Ilion NY 
	13357
GEO:43.0265825;-75.0566407
END:VEVENT
END:VCALENDAR