BEGIN:VCALENDAR
VERSION:2.0
PRODID:-//Tukios.com/
BEGIN:VEVENT
UID:599b37b0-9956-49ad-9bf8-d4738886a3dc@www.eneafuneralhomes.com
DTSTAMP:20260425T155038Z
DTSTART:20260516T150000Z
DTEND:20260516T180000Z
SUMMARY:Celebration of Life
DESCRIPTION:This will follow the graveside service, and a reception will 
	be held in Alfred's memory.
URL:https://www.eneafuneralhomes.com/obituaries/alfred-morrone-jr
LOCATION:Wolcott Fire Department Company #2 58 North Street  Wolcott CT 
	06716
GEO:41.6351868;-72.9679533
END:VEVENT
END:VCALENDAR