BEGIN:VCALENDAR
VERSION:2.0
PRODID:-//Tukios.com/
BEGIN:VEVENT
UID:5a88578a-6b91-446e-95c0-ab2f4a69a598@www.eneafuneralhomes.com
DTSTAMP:20260425T154725Z
DTSTART:20260516T140000Z
DTEND:20260516T143000Z
SUMMARY:Graveside Service
DESCRIPTION:This is an invitation to relatives and friends to join with 
	the family to remember Alfred and military honors will be accorded.
URL:https://www.eneafuneralhomes.com/obituaries/alfred-morrone-jr
LOCATION:Edgewood Cemetery 58 North Street  Wolcott CT 06716
GEO:41.6351868;-72.9679533
END:VEVENT
END:VCALENDAR